BEGIN:VCALENDAR
VERSION:2.0
PRODID:-//SV GO! Saar 05 Leichtathletik e.V. - ECPv6.15.20//NONSGML v1.0//EN
CALSCALE:GREGORIAN
METHOD:PUBLISH
X-ORIGINAL-URL:https://saar05-leichtathletik.de
X-WR-CALDESC:Veranstaltungen für SV GO! Saar 05 Leichtathletik e.V.
REFRESH-INTERVAL;VALUE=DURATION:PT1H
X-Robots-Tag:noindex
X-PUBLISHED-TTL:PT1H
BEGIN:VTIMEZONE
TZID:Europe/Berlin
BEGIN:DAYLIGHT
TZOFFSETFROM:+0100
TZOFFSETTO:+0200
TZNAME:CEST
DTSTART:20240331T010000
END:DAYLIGHT
BEGIN:STANDARD
TZOFFSETFROM:+0200
TZOFFSETTO:+0100
TZNAME:CET
DTSTART:20241027T010000
END:STANDARD
BEGIN:DAYLIGHT
TZOFFSETFROM:+0100
TZOFFSETTO:+0200
TZNAME:CEST
DTSTART:20250330T010000
END:DAYLIGHT
BEGIN:STANDARD
TZOFFSETFROM:+0200
TZOFFSETTO:+0100
TZNAME:CET
DTSTART:20251026T010000
END:STANDARD
BEGIN:DAYLIGHT
TZOFFSETFROM:+0100
TZOFFSETTO:+0200
TZNAME:CEST
DTSTART:20260329T010000
END:DAYLIGHT
BEGIN:STANDARD
TZOFFSETFROM:+0200
TZOFFSETTO:+0100
TZNAME:CET
DTSTART:20261025T010000
END:STANDARD
END:VTIMEZONE
BEGIN:VEVENT
DTSTART;TZID=Europe/Berlin:20251110T183000
DTEND;TZID=Europe/Berlin:20251110T200000
DTSTAMP:20260422T143211
CREATED:20251105T092515Z
LAST-MODIFIED:20251105T092558Z
UID:10000103-1762799400-1762804800@saar05-leichtathletik.de
SUMMARY:Mitgliederversammlung
DESCRIPTION:Einladung
URL:https://saar05-leichtathletik.de/event/mitgliederversammlung/
LOCATION:Sportcampus Saar\, Hermann-Neuberger-Str. 4\, Saarbrücken\, 66123\, Germany
END:VEVENT
END:VCALENDAR