BEGIN:VCALENDAR
VERSION:2.0
PRODID:-//SV GO! Saar 05 Leichtathletik e.V. - ECPv6.15.20//NONSGML v1.0//EN
CALSCALE:GREGORIAN
METHOD:PUBLISH
X-ORIGINAL-URL:https://saar05-leichtathletik.de
X-WR-CALDESC:Veranstaltungen für SV GO! Saar 05 Leichtathletik e.V.
REFRESH-INTERVAL;VALUE=DURATION:PT1H
X-Robots-Tag:noindex
X-PUBLISHED-TTL:PT1H
BEGIN:VTIMEZONE
TZID:Europe/Berlin
BEGIN:DAYLIGHT
TZOFFSETFROM:+0100
TZOFFSETTO:+0200
TZNAME:CEST
DTSTART:20240331T010000
END:DAYLIGHT
BEGIN:STANDARD
TZOFFSETFROM:+0200
TZOFFSETTO:+0100
TZNAME:CET
DTSTART:20241027T010000
END:STANDARD
BEGIN:DAYLIGHT
TZOFFSETFROM:+0100
TZOFFSETTO:+0200
TZNAME:CEST
DTSTART:20250330T010000
END:DAYLIGHT
BEGIN:STANDARD
TZOFFSETFROM:+0200
TZOFFSETTO:+0100
TZNAME:CET
DTSTART:20251026T010000
END:STANDARD
BEGIN:DAYLIGHT
TZOFFSETFROM:+0100
TZOFFSETTO:+0200
TZNAME:CEST
DTSTART:20260329T010000
END:DAYLIGHT
BEGIN:STANDARD
TZOFFSETFROM:+0200
TZOFFSETTO:+0100
TZNAME:CET
DTSTART:20261025T010000
END:STANDARD
END:VTIMEZONE
BEGIN:VEVENT
DTSTART;VALUE=DATE:20250717
DTEND;VALUE=DATE:20250721
DTSTAMP:20260422T110339
CREATED:20241020T093653Z
LAST-MODIFIED:20250428T173342Z
UID:10000078-1752710400-1753055999@saar05-leichtathletik.de
SUMMARY:Jugend EM U23
DESCRIPTION:Ausschreibungslink folgt
URL:https://saar05-leichtathletik.de/event/jugend-u23-em/
LOCATION:Bergen\, Norway
CATEGORIES:Europameisterschaft
ATTACH;FMTTYPE=image/jpeg:https://saar05-leichtathletik.de/wp-content/uploads/2023/07/278745_original_R_by_Helmut-Wegmann_pixelio.de_-scaled.jpg
END:VEVENT
END:VCALENDAR