BEGIN:VCALENDAR
VERSION:2.0
PRODID:-//SV GO! Saar 05 Leichtathletik e.V. - ECPv6.15.20//NONSGML v1.0//EN
CALSCALE:GREGORIAN
METHOD:PUBLISH
X-WR-CALNAME:SV GO! Saar 05 Leichtathletik e.V.
X-ORIGINAL-URL:https://saar05-leichtathletik.de
X-WR-CALDESC:Veranstaltungen für SV GO! Saar 05 Leichtathletik e.V.
REFRESH-INTERVAL;VALUE=DURATION:PT1H
X-Robots-Tag:noindex
X-PUBLISHED-TTL:PT1H
BEGIN:VTIMEZONE
TZID:Europe/Berlin
BEGIN:DAYLIGHT
TZOFFSETFROM:+0100
TZOFFSETTO:+0200
TZNAME:CEST
DTSTART:20210328T010000
END:DAYLIGHT
BEGIN:STANDARD
TZOFFSETFROM:+0200
TZOFFSETTO:+0100
TZNAME:CET
DTSTART:20211031T010000
END:STANDARD
BEGIN:DAYLIGHT
TZOFFSETFROM:+0100
TZOFFSETTO:+0200
TZNAME:CEST
DTSTART:20220327T010000
END:DAYLIGHT
BEGIN:STANDARD
TZOFFSETFROM:+0200
TZOFFSETTO:+0100
TZNAME:CET
DTSTART:20221030T010000
END:STANDARD
BEGIN:DAYLIGHT
TZOFFSETFROM:+0100
TZOFFSETTO:+0200
TZNAME:CEST
DTSTART:20230326T010000
END:DAYLIGHT
BEGIN:STANDARD
TZOFFSETFROM:+0200
TZOFFSETTO:+0100
TZNAME:CET
DTSTART:20231029T010000
END:STANDARD
BEGIN:DAYLIGHT
TZOFFSETFROM:+0100
TZOFFSETTO:+0200
TZNAME:CEST
DTSTART:20240331T010000
END:DAYLIGHT
BEGIN:STANDARD
TZOFFSETFROM:+0200
TZOFFSETTO:+0100
TZNAME:CET
DTSTART:20241027T010000
END:STANDARD
BEGIN:DAYLIGHT
TZOFFSETFROM:+0100
TZOFFSETTO:+0200
TZNAME:CEST
DTSTART:20250330T010000
END:DAYLIGHT
BEGIN:STANDARD
TZOFFSETFROM:+0200
TZOFFSETTO:+0100
TZNAME:CET
DTSTART:20251026T010000
END:STANDARD
END:VTIMEZONE
BEGIN:VEVENT
DTSTART;TZID=Europe/Berlin:20241116T170000
DTEND;TZID=Europe/Berlin:20241116T210000
DTSTAMP:20260422T212639
CREATED:20240917T081544Z
LAST-MODIFIED:20241103T153016Z
UID:10000069-1731776400-1731790800@saar05-leichtathletik.de
SUMMARY:Jahresabschlussfeier
DESCRIPTION:Saisonabschlussfeier für unsere aktiven SportlerInnen! \n 
URL:https://saar05-leichtathletik.de/event/jahresabschlussfeier/
LOCATION:Festhalle Schafbrücke\, Am Stahlhammer 7\, Saarbrücken\, 66121\, Germany
ATTACH;FMTTYPE=image/jpeg:https://saar05-leichtathletik.de/wp-content/uploads/2021/09/Logo-SV-GO-Saar-05-GO-800px-klein.jpg
END:VEVENT
BEGIN:VEVENT
DTSTART;VALUE=DATE:20231203
DTEND;VALUE=DATE:20231204
DTSTAMP:20260422T212639
CREATED:20221104T114409Z
LAST-MODIFIED:20231205T094008Z
UID:10000030-1701561600-1701647999@saar05-leichtathletik.de
SUMMARY:29. FORD Advent-Lauf
DESCRIPTION:Ausschreibung: \nKlicken öffnet Ausschreibung!\n  \n  \n  \n  \n  \n  \n  \n  \n  \nDie folgenden Links führen zu Meisterchip.de: \nAnmeldung \nTeilnehmer \nErgebnislisten
URL:https://saar05-leichtathletik.de/event/29-ford-advent-lauf/
LOCATION:Saarbrücken Leinpfad Daarler Brücke\, Daarler Brück\, Saarbrücken\, Saarland\, 66121\, Deutschland
CATEGORIES:Sparkassen-Cup
ATTACH;FMTTYPE=image/png:https://saar05-leichtathletik.de/wp-content/uploads/2015/10/ford.png
END:VEVENT
BEGIN:VEVENT
DTSTART;TZID=Europe/Berlin:20230708T133000
DTEND;TZID=Europe/Berlin:20230708T180000
DTSTAMP:20260422T212639
CREATED:20230601T072832Z
LAST-MODIFIED:20260316T193739Z
UID:10000041-1688823000-1688839200@saar05-leichtathletik.de
SUMMARY:34. prowin Kinderolympiade der Leichtathletik
DESCRIPTION:Anklicken öffnet Ausschreibung!\n  \nErgebnisliste ist HIER! \n 
URL:https://saar05-leichtathletik.de/event/34-prowin-kinderolympiade-der-leichtathletik/
LOCATION:Saarbrücken Stadion Kieselhumes\, Stadion Kieselhumes\, Saarbrücken\, 66123\, Deutschland
CATEGORIES:Kinderolympiade
ATTACH;FMTTYPE=image/jpeg:https://saar05-leichtathletik.de/wp-content/uploads/2023/08/saar090723953-.jpg
END:VEVENT
BEGIN:VEVENT
DTSTART;TZID=Europe/Berlin:20230521T080000
DTEND;TZID=Europe/Berlin:20230521T170000
DTSTAMP:20260422T212639
CREATED:20221104T114441Z
LAST-MODIFIED:20230429T153837Z
UID:10000031-1684656000-1684688400@saar05-leichtathletik.de
SUMMARY:35. Sparkassen City-Lauf
DESCRIPTION:  \nAnmeldung \nTeilnehmer \nErgebnislisten \nStart und Ziel: \n2 km Schülerlauf 09:30 Uhr\, Siegerehrung ca. 11:15 Uhr \n10 km Hauptlauf Start 10 : 00 Uhr\, Siegerehrung gegen  11:30 Uhr
URL:https://saar05-leichtathletik.de/event/35-sparkassen-city-lauf/
LOCATION:Saarbrücken Leinpfad Daarler Brücke\, Daarler Brück\, Saarbrücken\, Saarland\, 66121\, Deutschland
CATEGORIES:Sparkassen-Cup
END:VEVENT
BEGIN:VEVENT
DTSTART;TZID=Europe/Berlin:20230319T080000
DTEND;TZID=Europe/Berlin:20230319T170000
DTSTAMP:20260422T212639
CREATED:20221104T114510Z
LAST-MODIFIED:20230319T164954Z
UID:10000032-1679212800-1679245200@saar05-leichtathletik.de
SUMMARY:17. GO! Halbmarathon
DESCRIPTION:Ausschreibung:\n \n  \n  \n  \n  \n  \n  \n  \n  \n\nAnmeldung \nTeilnehmer\nErgebnisse
URL:https://saar05-leichtathletik.de/event/17-go-halbmarathon/
CATEGORIES:Sparkassen-Cup
END:VEVENT
BEGIN:VEVENT
DTSTART;VALUE=DATE:20221127
DTEND;VALUE=DATE:20221128
DTSTAMP:20260422T212639
CREATED:20211214T134308Z
LAST-MODIFIED:20230123T221112Z
UID:10000019-1669507200-1669593599@saar05-leichtathletik.de
SUMMARY:28. Ford Advent-Lauf
DESCRIPTION:Ausschreibung \nAnmeldung \nTeilnehmer \nErgebnisse \nACHTUNG: \nMit dem FORD Advent-Lauf beendet SV GO! Saar 05 am kommenden Sonntag\, den 27.11.2022 die diesjährige Laufsaison. Der Lauf geht bereits zum 28. Mal auf die amtlich vermessene 10-km-Strecke\, die wegen der aktuellen Baustellensituation im Bereich Bismarckbrücke geändert wurde. Neben dem Volkslauf werden gleichzeitig die 10 km- Straßenlaufmeisterschaften der SeniorInnen des SLB ausgetragen. Der FORD Advent-Lauf ist außerdem der 3. Lauf für den Sparkassen-Cup. \nFür die ca. 200 erwarteten LäuferInnen fällt der Startschuss um 09:30 Uhr am Leinpfad unter der Daarler Brücke. Aufgrund einer Baustelle an der Autobahn gibt es eine Veränderung. \nDie Strecke führt diesmal über den Leinpfad Richtung französische Grenze bis zum 1. Wendepunkt\, dann zurück an Start und Ziel vorbei Richtung Innenstadt. Vor dem Baustellenbereich A 620 Höhe Bismarckbrücke befindet sich der 2. Wendepunkt. Von dort geht es zurück zum Start- und Ziel-Punkt an der Daarler Brücke.  \nDie Siegerehrung findet gegen 11:15 Uhr in der Mehrzweckhalle in der Scharnhorststraße statt. \nLäuferInnen können sich für den FORD Advent-Lauf anmelden über www. saar05-leichtathletik.de. Die Vergabe der Startnummern findet in der Mehrzweckhalle in der Scharnhorststraße statt\, wo bis 30min vor dem Start ebenfalls noch Anmeldungen möglich sind. Die Anmeldungen für die SLB-Straßenlaufmeisterschaften der SeniorInnen können nur über den SLB erfolgen. \nFür Rückfragen und weitergehende Informationen stehen wir gerne zu Ihrer Verfügung! \nSV GO! Saar 05 Leichtathletik e.V.\nDeutschmühlental 19\nAm Deutsch-Französischen Garten\n66117 Saarbrücken \nKnut Engler\, 2. Vorsitzender\nknut.engler.sb@gmail.com\n+49-172-6970343
URL:https://saar05-leichtathletik.de/event/28-ford-advent-lauf/
CATEGORIES:Sparkassen-Cup
ATTACH;FMTTYPE=image/png:https://saar05-leichtathletik.de/wp-content/uploads/2015/10/ford.png
END:VEVENT
END:VCALENDAR