BEGIN:VCALENDAR
VERSION:2.0
PRODID:-//SV GO! Saar 05 Leichtathletik e.V. - ECPv6.15.20//NONSGML v1.0//EN
CALSCALE:GREGORIAN
METHOD:PUBLISH
X-ORIGINAL-URL:https://saar05-leichtathletik.de
X-WR-CALDESC:Veranstaltungen für SV GO! Saar 05 Leichtathletik e.V.
REFRESH-INTERVAL;VALUE=DURATION:PT1H
X-Robots-Tag:noindex
X-PUBLISHED-TTL:PT1H
BEGIN:VTIMEZONE
TZID:Europe/Berlin
BEGIN:DAYLIGHT
TZOFFSETFROM:+0100
TZOFFSETTO:+0200
TZNAME:CEST
DTSTART:20250330T010000
END:DAYLIGHT
BEGIN:STANDARD
TZOFFSETFROM:+0200
TZOFFSETTO:+0100
TZNAME:CET
DTSTART:20251026T010000
END:STANDARD
BEGIN:DAYLIGHT
TZOFFSETFROM:+0100
TZOFFSETTO:+0200
TZNAME:CEST
DTSTART:20260329T010000
END:DAYLIGHT
BEGIN:STANDARD
TZOFFSETFROM:+0200
TZOFFSETTO:+0100
TZNAME:CET
DTSTART:20261025T010000
END:STANDARD
BEGIN:DAYLIGHT
TZOFFSETFROM:+0100
TZOFFSETTO:+0200
TZNAME:CEST
DTSTART:20270328T010000
END:DAYLIGHT
BEGIN:STANDARD
TZOFFSETFROM:+0200
TZOFFSETTO:+0100
TZNAME:CET
DTSTART:20271031T010000
END:STANDARD
END:VTIMEZONE
BEGIN:VEVENT
DTSTART;TZID=Europe/Berlin:20260517T090000
DTEND;TZID=Europe/Berlin:20260517T120000
DTSTAMP:20260423T114729
CREATED:20260320T072543Z
LAST-MODIFIED:20260410T130103Z
UID:10000105-1779008400-1779019200@saar05-leichtathletik.de
SUMMARY:38. Sparkassen City-Lauf 10+5+2 km
DESCRIPTION:Herzlich willkommen zum mittlerweile 38. Sparkassen Citylauf des SV GO! Saar 05 Leichtathletik e.V.! Wir freuen uns\, euch auch in diesem Jahr zu unserem City-Lauf begrüßen zu können. Insgesamt 850 Teilnehmer insgesamt zugelassen\, dann schließt die Anmeldung! \n\n\n\n\nDas Anmeldeportal ist geöffnet\, wir freuen uns auf eure Anmeldungen!! \n\n\n\n\nAusschreibung S. 1\n\n\n\nAusschreibung S. 2\n\n\n\n\nLink zur Anmeldung bei meisterchip.de \n\n\n\nErgebnisse bei meisterchip.de
URL:https://saar05-leichtathletik.de/event/38-sparkassen-city-lauf/
LOCATION:Saarbrücken Leinpfad Daarler Brücke\, Daarler Brück\, Saarbrücken\, Saarland\, 66121\, Deutschland
END:VEVENT
END:VCALENDAR